BEGIN:VCALENDAR
VERSION:2.0
PRODID:-//ox.ac.uk//NONSGML oxford.event//EN
X-WR-TIMEZONE:Europe/London
BEGIN:VTIMEZONE
TZID:Europe/London
X-LIC-LOCATION:Europe/London
BEGIN:DAYLIGHT
DTSTART;VALUE=DATE-TIME:19700329T010000
RRULE:FREQ=YEARLY;BYDAY=-1SU;BYMONTH=3
TZNAME:BST
TZOFFSETFROM:+0000
TZOFFSETTO:+0100
END:DAYLIGHT
BEGIN:STANDARD
DTSTART;VALUE=DATE-TIME:19701025T020000
RRULE:FREQ=YEARLY;BYDAY=-1SU;BYMONTH=10
TZNAME:GMT
TZOFFSETFROM:+0100
TZOFFSETTO:+0000
END:STANDARD
END:VTIMEZONE
BEGIN:VEVENT
SUMMARY:Three Minute Thesis (3MT) Training Session (in-person)
DTSTART;TZID=Europe/London;VALUE=DATE-TIME:20260518T100000
DTEND;TZID=Europe/London;VALUE=DATE-TIME:20260518T120000
DTSTAMP;VALUE=DATE-TIME:20260423T003920Z
UID:df8d080deb7e4e039c2b2cd6ac55dfa2
CATEGORIES:communications
CATEGORIES:dphil-students
CATEGORIES:presentation-skills
CATEGORIES:public-engagement
CONTACT:Public Engagement with Research\, https://www.mpls.ox.ac.uk/public
 -engagement/three-minute-thesis
CREATED;VALUE=DATE-TIME:20240318T164640Z
DESCRIPTION:A 50\,000 word thesis would take 7 hours to present\; how abou
 t in just 3 minutes with the aid of a single slide?
LAST-MODIFIED;VALUE=DATE-TIME:20260422T111809Z
SPEAKER:Dr Catherine Seed
END:VEVENT
END:VCALENDAR
