BEGIN:VCALENDAR
VERSION:2.0
PRODID:-//ox.ac.uk//NONSGML oxford.event//EN
X-WR-TIMEZONE:Europe/London
BEGIN:VTIMEZONE
TZID:Europe/London
X-LIC-LOCATION:Europe/London
BEGIN:DAYLIGHT
DTSTART;VALUE=DATE-TIME:19700329T010000
RRULE:FREQ=YEARLY;BYDAY=-1SU;BYMONTH=3
TZNAME:BST
TZOFFSETFROM:+0000
TZOFFSETTO:+0100
END:DAYLIGHT
BEGIN:STANDARD
DTSTART;VALUE=DATE-TIME:19701025T020000
RRULE:FREQ=YEARLY;BYDAY=-1SU;BYMONTH=10
TZNAME:GMT
TZOFFSETFROM:+0100
TZOFFSETTO:+0000
END:STANDARD
END:VTIMEZONE
BEGIN:VEVENT
SUMMARY:Stakeholder Mapping for Academic Policy Engagement (in-person)
DTSTART;TZID=Europe/London;VALUE=DATE-TIME:20260602T140000
DTEND;TZID=Europe/London;VALUE=DATE-TIME:20260602T160000
DTSTAMP;VALUE=DATE-TIME:20260419T175609Z
UID:31a2e73bd9464521aee5d11d9dd04141
CATEGORIES:all
CATEGORIES:dphil-students
CATEGORIES:research-staff
CREATED;VALUE=DATE-TIME:20230815T134414Z
DESCRIPTION:Who do you need to engage with in the policy world to achieve 
 impact?
LAST-MODIFIED;VALUE=DATE-TIME:20260413T073557Z
SPEAKER:Jose Rojas Alvarado
END:VEVENT
END:VCALENDAR
